Workbook

Sheet 男子参加申込書
A1: ＜様式１－①＞
A2: 第45回 愛媛中学駅伝競走大会参加申込書＜男子＞
A3: 所属 No （ナンバーカード） | C3: 正式所属名 | D3: =IFERROR(VLOOKUP(A4,$T$26:$V$192,2),"")
C4: 所在地
C5: T E L
A6: =IFERROR(VLOOKUP(A4,$T$26:$V$192,3),"") | C6: 所属長 | Q6: 印
C7: 監 督 | Q7: 印
A10: 区間・距離 | B10: 選 手 氏 名 | C10: ﾌﾘｶﾞﾅ | D10: 学年 | E10: 800mﾍﾞｽﾄﾀｲﾑ (記入例：2分02秒02) | J10: 1500mﾍﾞｽﾄﾀｲﾑ (記入例：5分00秒00) | O10: 3000mﾍﾞｽﾄﾀｲﾑ (記入例：9分59秒99)
A11: 第１区・３ｋｍ | F11: 分 | H11: 秒 | K11: 分 | M11: 秒 | P11: 分 | R11: 秒
A12: 第２区・３ｋｍ | F12: 分 | H12: 秒 | K12: 分 | M12: 秒 | P12: 分 | R12: 秒
A13: 第３区・３ｋｍ | F13: 分 | H13: 秒 | K13: 分 | M13: 秒 | P13: 分 | R13: 秒
A14: 第４区・３ｋｍ | F14: 分 | H14: 秒 | K14: 分 | M14: 秒 | P14: 分 | R14: 秒
A15: 第５区・３ｋｍ | F15: 分 | H15: 秒 | K15: 分 | M15: 秒 | P15: 分 | R15: 秒
A16: 第６区・３ｋｍ | F16: 分 | H16: 秒 | K16: 分 | M16: 秒 | P16: 分 | R16: 秒
A17: 交代要員 | F17: 分 | H17: 秒 | K17: 分 | M17: 秒 | P17: 分 | R17: 秒
A18: 交代要員 | F18: 分 | H18: 秒 | K18: 分 | M18: 秒 | P18: 分 | R18: 秒
A19: 交代要員 | F19: 分 | H19: 秒 | K19: 分 | M19: 秒 | P19: 分 | R19: 秒
A20: 連絡用 E－mail アドレス
A21: 監 督 携 帯 電 話 番 号
A23: 上記の者は、愛媛中学駅伝競走大会の参加申し込みに際し、大会要項に記載の内容を確認し、同意を得ています。
T26: 1 | U26: 上島町立弓削中学校 | V26: 弓削
T27: 2 | U27: 新居浜市立船木中学校 | V27: 船木
T28: 3 | U28: 愛光中学校 | V28: 愛光
T29: 4 | U29: 伊方町立伊方中学校 | V29: 伊方
T30: 5 | U30: 愛南町立西海中学校 | V30: 西海
T31: 6 | U31: 今治市立南中学校 | V31: 今治南
T32: 7 | U32: 今治市立近見中学校 | V32: 近見
T33: 8 | U33: 西条市立小松中学校 | V33: 小松
T34: 9 | U34: 宇和島市立津島中学校 | V34: 津島
T35: 10 | U35: 西条市立東予東中学校 | V35: 東予東
T36: 11 | U36: 西予市立野村中学校 | V36: 野村
T37: 12 | U37: 今治市立西伯方中学校 | V37: 西伯方
... T192: 512 | U192: 藤山アスリートクラブ | V192: 藤山AC

Sheet 男子個票
A2: 第45回 愛媛中学駅伝競走大会個票＜男子＞
A5: =男子参加申込書!A4 -> 0 | B5: =男子参加申込書!D3
A6: 監督 | B6: =男子参加申込書!D7 -> 0
A7: ＜区間＞ | B7: ＜選手氏名＞ | C7: ＜学年＞
A8: １区 | B8: =男子参加申込書!B11 -> 0 | C8: =男子参加申込書!D11 -> 0
A9: ２区 | B9: =男子参加申込書!B12 -> 0 | C9: =男子参加申込書!D12 -> 0
A10: ３区 | B10: =男子参加申込書!B13 -> 0 | C10: =男子参加申込書!D13 -> 0
A11: ４区 | B11: =男子参加申込書!B14 -> 0 | C11: =男子参加申込書!D14 -> 0
A12: ５区 | B12: =男子参加申込書!B15 -> 0 | C12: =男子参加申込書!D15 -> 0
A13: ６区 | B13: =男子参加申込書!B16 -> 0 | C13: =男子参加申込書!D16 -> 0
A14: 交代要員 | B14: =男子参加申込書!B17 -> 0 | C14: =男子参加申込書!D17 -> 0
A15: 交代要員 | B15: =男子参加申込書!B18 -> 0 | C15: =男子参加申込書!D18 -> 0
A16: 交代要員 | B16: =男子参加申込書!B19 -> 0 | C16: =男子参加申込書!D19 -> 0

Sheet 男子変更届
B1: 男子第45回 愛媛中学駅伝競走大会
B3: 選 手 ・ 区 間 変 更 届
B5: 【男 子】
B7: 所属 No | C7: 所 属 名 | D7: 監 督 名
B8: =IF(ISBLANK(男子参加申込書!$A$4),"",男子参加申込書!$A$4) | C8: =男子参加申込書!$A$6 | D8: =IF(ISBLANK(男子参加申込書!$D$7),"",男子参加申込書!$D$7)
B10: 変更なし 変更あり （どちらかを○で囲んでください。）
C12: 区 間 | D12: 変更前選手名 | E12: ⇒ | F12: 変更後選手名
C13: 第１区 ３．０ｋｍ | E13: ⇒
C14: 第２区 ３．０ｋｍ | E14: ⇒
C15: 第３区 ３．０ｋｍ | E15: ⇒
C16: 第４区 ３．０ｋｍ | E16: ⇒
C17: 第５区 ３．０ｋｍ | E17: ⇒
C18: 第６区 ３．０ｋｍ | E18: ⇒
C19: 交 代 要 員 | E19: ⇒
C20: 交 代 要 員 | E20: ⇒
C21: 交 代 要 員 | E21: ⇒
B23: ・ 変更届は、大会当日の８：００～９：００に、受付まで提出してください。 ・ 変更の有無にかかわらず、全チーム提出してください。変更のない場合は、「変更なし」に○をつ けて提出してください。 ・ 変更のある区間のみ記入してください。申込時にエントリーした９名の中であれば、選手、区間と もに変更可能です。

Sheet 女子参加申込書
A1: ＜様式１－②＞
A2: 第34回 愛媛中学駅伝競走大会参加申込書＜女子＞
A3: 所属 No （ナンバーカード） | C3: 正式所属名 | D3: =IFERROR(VLOOKUP(A4,$T$26:$V$192,2),"")
C4: 所在地
C5: T E L
A6: =IFERROR(VLOOKUP(A4,$T$26:$V$192,3),"") | C6: 所属長 | Q6: 印
C7: 監 督 | Q7: 印
A10: 区間・距離 | B10: 選 手 氏 名 | C10: ﾌﾘｶﾞﾅ | D10: 学年 | E10: 800mﾍﾞｽﾄﾀｲﾑ (記入例：2分19秒01) | J10: 1500mﾍﾞｽﾄﾀｲﾑ (記入例：4分55秒44) | O10: 3000mﾍﾞｽﾄﾀｲﾑ (記入例：10分05秒24)
A11: 第１区・３ｋｍ | F11: 分 | H11: 秒 | K11: 分 | M11: 秒 | P11: 分 | R11: 秒
A12: 第２区・２ｋｍ | F12: 分 | H12: 秒 | K12: 分 | M12: 秒 | P12: 分 | R12: 秒
A13: 第３区・２ｋｍ | F13: 分 | H13: 秒 | K13: 分 | M13: 秒 | P13: 分 | R13: 秒
A14: 第４区・２ｋｍ | F14: 分 | H14: 秒 | K14: 分 | M14: 秒 | P14: 分 | R14: 秒
A15: 第５区・３ｋｍ | F15: 分 | H15: 秒 | K15: 分 | M15: 秒 | P15: 分 | R15: 秒
A16: 交代要員 | F16: 分 | H16: 秒 | K16: 分 | M16: 秒 | P16: 分 | R16: 秒
A17: 交代要員 | F17: 分 | H17: 秒 | K17: 分 | M17: 秒 | P17: 分 | R17: 秒
A18: 交代要員 | F18: 分 | H18: 秒 | K18: 分 | M18: 秒 | P18: 分 | R18: 秒
A19: 連絡用 E－mail アドレス
A20: 監 督 携 帯 電 話 番 号
A22: 上記の者は、愛媛中学駅伝競走大会の参加申し込みに際し、大会要項に記載の内容を確認し、同意を得ています。
T26: 1 | U26: 上島町立弓削中学校 | V26: 弓削
T27: 2 | U27: 新居浜市立船木中学校 | V27: 船木
T28: 3 | U28: 愛光中学校 | V28: 愛光
T29: 4 | U29: 伊方町立伊方中学校 | V29: 伊方
T30: 5 | U30: 愛南町立西海中学校 | V30: 西海
T31: 6 | U31: 今治市立南中学校 | V31: 今治南
T32: 7 | U32: 今治市立近見中学校 | V32: 近見
T33: 8 | U33: 西条市立小松中学校 | V33: 小松
T34: 9 | U34: 宇和島市立津島中学校 | V34: 津島
T35: 10 | U35: 西条市立東予東中学校 | V35: 東予東
T36: 11 | U36: 西予市立野村中学校 | V36: 野村
T37: 12 | U37: 今治市立西伯方中学校 | V37: 西伯方
... T192: 512 | U192: 藤山アスリートクラブ | V192: 藤山AC

Sheet 女子個票
A2: 第34回 愛媛中学駅伝競走大会個票＜女子＞
A5: =女子参加申込書!A4 -> 0 | B5: =女子参加申込書!$D$3
A6: 監督 | B6: =女子参加申込書!$D$7 -> 0
A7: ＜区間＞ | B7: ＜選手氏名＞ | C7: ＜学年＞
A8: １区 | B8: =女子参加申込書!B11 -> 0 | C8: =女子参加申込書!D11 -> 0
A9: ２区 | B9: =女子参加申込書!B12 -> 0 | C9: =女子参加申込書!D12 -> 0
A10: ３区 | B10: =女子参加申込書!B13 -> 0 | C10: =女子参加申込書!D13 -> 0
A11: ４区 | B11: =女子参加申込書!B14 -> 0 | C11: =女子参加申込書!D14 -> 0
A12: ５区 | B12: =女子参加申込書!B15 -> 0 | C12: =女子参加申込書!D15 -> 0
A13: 交代要員 | B13: =女子参加申込書!B16 -> 0 | C13: =女子参加申込書!D16 -> 0
A14: 交代要員 | B14: =女子参加申込書!B17 -> 0 | C14: =女子参加申込書!D17 -> 0
A15: 交代要員 | B15: =女子参加申込書!B18 -> 0 | C15: =女子参加申込書!D18 -> 0

Sheet 女子変更届
B1: 女子第34回 愛媛中学駅伝競走大会
B3: 選 手 ・ 区 間 変 更 届
B5: 【女 子】
B7: 所属 No | C7: 所 属 名 | D7: 監 督 名
B8: =IF(ISBLANK(女子参加申込書!$A$4),"",女子参加申込書!$A$4) | C8: =女子参加申込書!$A$6 | D8: =IF(ISBLANK(女子参加申込書!$D$7),"",女子参加申込書!$D$7)
B10: 変更なし 変更あり （どちらかを○で囲んでください。）
C12: 区 間 | D12: 変更前選手名 | E12: ⇒ | F12: 変更後選手名
C13: 第１区 ３．０ｋｍ | E13: ⇒
C14: 第２区 ２．０ｋｍ | E14: ⇒
C15: 第３区 ２．０ｋｍ | E15: ⇒
C16: 第４区 ２．０ｋｍ | E16: ⇒
C17: 第５区 ３．０ｋｍ | E17: ⇒
C18: 交 代 要 員 | E18: ⇒
C19: 交 代 要 員 | E19: ⇒
C20: 交 代 要 員 | E20: ⇒
B22: ・ 変更届は、大会当日の８：００～９：００に、受付まで提出してください。 ・ 変更の有無にかかわらず、全チーム提出してください。変更のない場合は、「変更なし」に○をつ けて提出してください。 ・ 変更のある区間のみ記入してください。申込時にエントリーした８名の中であれば、選手、区間と もに変更可能です。

Sheet ﾅﾝﾊﾞｰｶｰﾄﾞ一覧
A1: 愛媛中学駅伝競走大会ナンバーカード一覧＜男女共通＞
A3: 所属No | B3: 所 属 名 | C3: 所属No | D3: 所 属 名 | E3: 所属No | F3: 所 属 名 | G3: 所属No | H3: 所 属 名
A4: 1 | B4: 弓 削 | C4: 51 | D4: 南第二 | E4: 104 | F4: 新 宮 | G4: 501 | H4: 愛媛RA
A5: 2 | B5: 船 木 | C5: 52 | D5: 松 野 | E5: 105 | F5: 八 代 | G5: 502 | H5: 愛ｱｽﾘｰﾄ
A6: 3 | B6: 愛 光 | C6: 53 | D6: 新居浜東 | E6: 106 | F6: 新居浜西 | G6: 503 | H6: LIRUN AC
A7: 4 | B7: 伊 方 | C7: 54 | D7: 城 川 | E7: 107 | F7: 旭 | G7: 504 | H7: Niihama T&F
A8: 5 | B8: 西 海 | C8: 55 | D8: 港 南 | E8: 108 | F8: 関 前 | G8: 505 | H8: B&M
A9: 6 | B9: 今治南 | C9: 56 | D9: 中 島 | E9: 110 | F9: 桜 井 | G9: 506 | H9: LODESTAR AC
A10: 7 | B10: 近 見 | C10: 57 | D10: 久 万 | E10: 111 | F10: 新居浜南 | G10: 507 | H10: Glanz AC
A11: 8 | B11: 小 松 | C11: 58 | D11: 河 辺 | E11: 112 | F11: 宮 窪 | G11: 508 | H11: VIVID
A12: 9 | B12: 津 島 | C12: 59 | D12: 西条東 | E12: 113 | F12: 大三島 | G12: 509 | H12: 西条クラブ
A13: 10 | B13: 東予東 | C13: 60 | D13: 城 東 | E13: 114 | F13: 角 野 | G13: 510 | H13: 四国中央AC
A14: 11 | B14: 野 村 | C14: 61 | D14: 岡 田 | E14: 115 | F14: 伊 予 | G14: 511 | H14: 今治クラブ
A15: 13 | B15: 岩 城 | C15: 62 | D15: 城 北 | E15: 116 | F15: 美須賀 | G15: 512 | H15: 藤山AC
A16: 14 | B16: 川 東 | C16: 63 | D16: 湯 山 | E16: 117 | F16: 川之江南
A17: 15 | B17: 中 萩 | C17: 64 | D17: 砥 部 | E17: 118 | F17: 青 石
A18: 16 | B18: 拓 南 | C18: 65 | D18: 道 後 | E18: 119 | F18: 松 柏
A19: 17 | B19: 松 前 | C19: 66 | D19: 御 荘 | E19: 120 | F19: 日 浦
A20: 18 | B20: 久 米 | C20: 67 | D20: 西条北 | E20: 121 | F20: 大洲南
A21: 19 | B21: 内 海 | C21: 68 | D21: 松山南 | E21: 122 | F21: 大洲東
A22: 20 | B22: 大 西 | C22: 69 | D22: 土 居 | E22: 123 | F22: 今治日吉
A23: 21 | B23: 内 子 | C23: 71 | D23: 小 田 | E23: 124 | F23: 興居島
A24: 22 | B24: 三 間 | C24: 72 | D24: 松山西 | E24: 126 | F24: 大生院
A25: 23 | B25: 丹原東 | C25: 73 | D25: 河 北 | E25: 127 | F25: 立 花
A26: 24 | B26: 重 信 | C26: 74 | D26: 北伊予 | E26: 128 | F26: 丹原西
A27: 25 | B27: 北条南 | C27: 75 | D27: 小 野 | E27: 129 | F27: 五十崎
... A51: 49 | B51: 保 内 | C51: 101 | D51: 三島南 | E51: 155 | F51: ひびき分校
A52: 50 | B52: 西条南 | C52: 103 | D52: 中 山

Sheet 入力の手引き
A1: 男子第45回 女子第34回 愛媛県中学駅伝競走大会参加申込書 入力の手引き
A3: 記録データの処理には特別なコンピュータを使用するため、氏名や所属名に外字が含まれると
A4: 正しく表示されない可能性があります。氏名や所属名の入力は、常用漢字の使用をお願いします。
A6: １．必要な機器
A7: ① MS-Excel2007 よりも新しいソフトが使用できるコンピュータ （拡張子 ．ｘｌｓｘ での保存が必要なため）
A8: ② A4サイズの印刷ができるプリンタ （カラーでも白黒でもかまいません。）
A10: ２．入力手順
A11: （１） HPよりダウンロードした申込用ファイル、「 000県駅伝申込r07 」 を開く。
A12: ① MS-Excelを起動します。
A13: ② 申込用のファイルを開きます。
A14: ◇ Sheet１：男子参加申込書(様式１－①) Sheet２：男子個票 Sheet３：男子変更届
A15: ◇ Sheet４：女子参加申込書(様式１－②) Sheet５：女子個票 Sheet６：女子変更届
... A21: ◇ Sheet９は情報処理用のｼｰﾄですので、申し込みには直接関係ありません。
B23: ※ 数字、アルファベット、カタカナ、ハイフン、スペースは全て半角で入力します。
B24: ※ ひらがな、漢字は全て全角で入力します。
A27: （２） 所属Noの入力
A28: ① Sheet７の「ナンバーカード一覧表」を見て、各所属の所属Noを入力してください。
A29: ※ 「ナンバーカード一覧表」に、所属名およびナンバーがない場合は県中体連駅伝担当までお問い合わせください。
A31: （３） 各所属データの入力
A32: ① 所属名
A33: ◇ 所属Noが入力されると、自動的に、下のセルに所属名、D3セルに正式所属名が表示されます。
A34: ② 所在地（漢字・ひらがなは全角、カタカナ・数字・アルファベットは半角で入力）
A35: ◇ 郡市名から入力してください。
A36: ③ 電話番号（半角数字で入力）
A37: ◇ 市外局番から入力して、ハイフンでつないでください。
A38: ④ 所属長名・監督名の入力（漢字・ひらがなは全角、カタカナは半角で入力）
A39: ◇ 下記（４）－①から④の入力方法にしたがって、記入してください。
... A70: ◇ 「参加申込書」は、銀行振込控えの写し（コピー）とともに、大会要項の申込郵送先まで郵送する。
F71: （松山市立南第二中学校 中本尚貴 宛）
A73: （８） 保存
A74: ① 画面左上から「ファイル」をクリックし、「名前を付けて保存」を選択します。
A75: ② ファイル名を「 所属No + 所属名 + r06 」として保存してください。
A76: ◇ 例 ・・・ 南第二中の場合は 「051南第二r07」 、 愛媛ランニングアカデミーの場合は 「 501愛媛RAr07 」 となる。
A77: ◇ 数字は半角で入力してください。
A78: ◇ excelブック形式（拡張子 .xlsx）にて保存してください。
A79: ◇ 入力したデータファイルは、申込要項のE-mail送信先までメール送信する。
A80: （松山市立雄新中学校 片岡覚 宛）
A81: ３．その他
A82: ＊ 申込書を印刷した後に変更があった場合は、必ず変更を入力し直してから再度申込書を印刷して
A83: 提出してください。
...

Sheet ﾃﾞｰﾀ取得
B1: ﾅﾝﾊﾞｰ | C1: 正式校名 | D1: 校名略称 | E1: 監督氏名 | F1: １区 | G1: ２区 | H1: ３区 | I1: ４区 | J1: ５区 | K1: ６区 | L1: 交代１ | M1: 交代２ | N1: 交代３
A2: 男子 | B2: =男子個票!A5 -> 0 | C2: =男子個票!B5 | D2: =男子参加申込書!A6 | E2: =男子個票!B6 -> 0 | F2: =男子個票!B8 -> 0 | G2: =男子個票!B9 -> 0 | H2: =男子個票!B10 -> 0 | I2: =男子個票!B11 -> 0 | J2: =男子個票!B12 -> 0 | K2: =男子個票!B13 -> 0 | L2: =男子個票!B14 -> 0 | M2: =男子個票!B15 -> 0 | N2: =男子個票!B16 -> 0
B5: ﾅﾝﾊﾞｰ | C5: 正式校名 | D5: 校名略称 | E5: 監督氏名 | F5: １区 | G5: ２区 | H5: ３区 | I5: ４区 | J5: ５区 | K5: 交代１ | L5: 交代２ | M5: 交代３
A6: 女子 | B6: =女子個票!A5 -> 0 | C6: =女子個票!B5 | D6: =女子参加申込書!A6 | E6: =女子参加申込書!D7 -> 0 | F6: =女子参加申込書!B11 -> 0 | G6: =女子参加申込書!B12 -> 0 | H6: =女子参加申込書!B13 -> 0 | I6: =女子参加申込書!B14 -> 0 | J6: =女子参加申込書!B15 -> 0 | K6: =女子参加申込書!B16 -> 0 | L6: =女子参加申込書!B17 -> 0 | M6: =女子参加申込書!B18 -> 0
